BEGIN:VCALENDAR
VERSION:2.0
PRODID:-//Hilfe für Sibiu/Hermannstadt - ECPv6.15.20//NONSGML v1.0//EN
CALSCALE:GREGORIAN
METHOD:PUBLISH
X-ORIGINAL-URL:https://hilfe-fuer-sibiu.de
X-WR-CALDESC:Veranstaltungen für Hilfe für Sibiu/Hermannstadt
REFRESH-INTERVAL;VALUE=DURATION:PT1H
X-Robots-Tag:noindex
X-PUBLISHED-TTL:PT1H
BEGIN:VTIMEZONE
TZID:Europe/Berlin
BEGIN:DAYLIGHT
TZOFFSETFROM:+0100
TZOFFSETTO:+0200
TZNAME:CEST
DTSTART:20230326T010000
END:DAYLIGHT
BEGIN:STANDARD
TZOFFSETFROM:+0200
TZOFFSETTO:+0100
TZNAME:CET
DTSTART:20231029T010000
END:STANDARD
BEGIN:DAYLIGHT
TZOFFSETFROM:+0100
TZOFFSETTO:+0200
TZNAME:CEST
DTSTART:20240331T010000
END:DAYLIGHT
BEGIN:STANDARD
TZOFFSETFROM:+0200
TZOFFSETTO:+0100
TZNAME:CET
DTSTART:20241027T010000
END:STANDARD
BEGIN:DAYLIGHT
TZOFFSETFROM:+0100
TZOFFSETTO:+0200
TZNAME:CEST
DTSTART:20250330T010000
END:DAYLIGHT
BEGIN:STANDARD
TZOFFSETFROM:+0200
TZOFFSETTO:+0100
TZNAME:CET
DTSTART:20251026T010000
END:STANDARD
END:VTIMEZONE
BEGIN:VEVENT
DTSTART;TZID=Europe/Berlin:20240525T140000
DTEND;TZID=Europe/Berlin:20240526T160000
DTSTAMP:20260423T005226
CREATED:20240511T054718Z
LAST-MODIFIED:20240511T055214Z
UID:8652-1716645600-1716739200@hilfe-fuer-sibiu.de
SUMMARY:Second Hand Verkauf
DESCRIPTION:Second Hand Verkauf im Kultur und Bürgerzentrum Neustadt Samstag\, 25. Mai und Sonntag 26. Mai 2024 jeweils von 14:00 – 16:00 Uhr. \nDer Erlös aus dem Verkauf kommt sozialen Projekten (eine ambulante Altenhilfe und Unterstützung von Jugendlichen aus sozial schwachen Familien) in Sibiu/Rumänien zugute. Es erwartet Sie eine vielfältige Auswahl an hoch-wertiger Damen- und Herrenbekleidung\, darunter auch Abendkleider für die Damen\, sowie neuwertige Schuhe\, Handtaschen\, Bett- und Tischwäsche und vieles mehr. Hier können Sie echte Schätze entdecken und gleichzeitig Gutes tun. Für das leibliche Wohl wird ebenfalls gesorgt sein\, denn neben dem Einkaufen können
URL:https://hilfe-fuer-sibiu.de/event/second-hand-verkauf/
LOCATION:Querallee 13\, 35279 Neustadt (Hessen)\, Querallee 13\, Neustadt\, 35279\, Deutschland
CATEGORIES:Second Hand Verkauf
ATTACH;FMTTYPE=image/png:https://hilfe-fuer-sibiu.de/wp-content/uploads/2024/05/Sibiu_Bazar_Neustadt.png
END:VEVENT
END:VCALENDAR